BEGIN:VCALENDAR
VERSION:2.0
PRODID:-//thetampariverwalk.com//NONSGML kigkonsult.se iCalcreator 2.30.10/
 /
CALSCALE:GREGORIAN
METHOD:PUBLISH
UID:ececa195-4e79-4a17-9440-42725a8ceac8
X-WR-CALDESC:Cover to Cover returns to Water Street Tampa for its second ye
 ar\, continuing a celebration of words\, wit\, and literary indulgence.\n
 \nOnce again\, this neighborhood favorite becomes a book lover's playgroun
 d lined with compelling voices\, unexpected finds\, and stories that linge
 r long after the last page.\n\nFrom fiction to non-fiction and everything 
 in between\, Cover to Cover invites story lovers to wander\, discover\, an
 d reconnect with the simple pleasure of a great book.
X-WR-RELCALID:40e4d63bfd4b79a6eea2e72471c67ba7
X-WR-TIMEZONE:America/New_York
BEGIN:VTIMEZONE
TZID:America/New_York
BEGIN:STANDARD
TZNAME:EST
DTSTART:20251102T020000
TZOFFSETFROM:-0400
TZOFFSETTO:-0500
RDATE:20261101T020000
END:STANDARD
BEGIN:DAYLIGHT
TZNAME:EDT
DTSTART:20260308T020000
TZOFFSETFROM:-0500
TZOFFSETTO:-0400
RDATE:20270314T020000
END:DAYLIGHT
END:VTIMEZONE
BEGIN:VEVENT
UID:0b5ce037-3e83-453e-833e-36f66b657355
DTSTAMP:20260420T082759Z
DESCRIPTION:Cover to Cover returns to Water Street Tampa for its second yea
 r\, continuing a celebration of words\, wit\, and literary indulgence.\n\n
 Once again\, this neighborhood favorite becomes a book lover's playground 
 lined with compelling voices\, unexpected finds\, and stories that linger 
 long after the last page.\n\nFrom fiction to non-fiction and everything in
  between\, Cover to Cover invites story lovers to wander\, discover\, and 
 reconnect with the simple pleasure of a great book.
DTSTART;TZID=America/New_York:20260325T173000
DTEND;TZID=America/New_York:20260325T213000
LOCATION:971 Water St \, Tampa\, FL 33602 US
SUMMARY:Cover to Cover
END:VEVENT
END:VCALENDAR
