BEGIN:VCALENDAR
VERSION:2.0
PRODID:-//thetampariverwalk.com//NONSGML kigkonsult.se iCalcreator 2.30.10/
 /
CALSCALE:GREGORIAN
METHOD:PUBLISH
UID:6bc4ac06-f73d-458c-9cf8-bb9659fd6785
X-WR-CALDESC:The Publix Gasparilla Distance Classic is the premier and city
 -signature road running event for the City of Tampa.\n\nThe 49th running o
 f the Publix Gasparilla Distance Classic Race Weekend will commence on Sat
 urday\, February 21\, and Sunday\, February 22\, 2026. Race Weekend will i
 nclude four distances plus four challenges: the PGDC 15K\, PGDC 5K\, the P
 ublix Gasparilla Half Marathon (13.1 miles)\, and the Publix Gasparilla 8K
 . Feeling up to a challenge\, the weekend also includes the Michelob Ultra
  Challenge (15K\, 5K\, Half Marathon\, and 8K)\, Michelob Ultra Pure Gold 
 Challenge (15K and Half Marathon)\, Michelob Ultra Infusion Challenge (15K
  and 8K)\, and the Michelob Ultra Zero Challenge (5K and 8K).\n\nThis incr
 edibly flat and fast course takes runners on an out-and-back course along 
 beautiful Bayshore Boulevard.\n\nYou can become a part of history and join
  us for the 49th running of the Publix Gasparilla Distance Classic Race We
 ekend\, February 21-22\, 2026!
X-WR-RELCALID:e2e6179df11e793be402aef2fb32f6b8
X-WR-TIMEZONE:America/New_York
BEGIN:VTIMEZONE
TZID:America/New_York
BEGIN:STANDARD
TZNAME:EST
DTSTART:20251102T020000
TZOFFSETFROM:-0400
TZOFFSETTO:-0500
RDATE:20261101T020000
END:STANDARD
BEGIN:DAYLIGHT
TZNAME:EDT
DTSTART:20250309T020000
TZOFFSETFROM:-0500
TZOFFSETTO:-0400
RDATE:20260308T020000
RDATE:20270314T020000
END:DAYLIGHT
END:VTIMEZONE
BEGIN:VEVENT
UID:b3a3c01a-d662-48a7-988f-6cfddbca1e0f
DTSTAMP:20260419T130303Z
DESCRIPTION:The Publix Gasparilla Distance Classic is the premier and city-
 signature road running event for the City of Tampa.\n\nThe 49th running of
  the Publix Gasparilla Distance Classic Race Weekend will commence on Satu
 rday\, February 21\, and Sunday\, February 22\, 2026. Race Weekend will in
 clude four distances plus four challenges: the PGDC 15K\, PGDC 5K\, the Pu
 blix Gasparilla Half Marathon (13.1 miles)\, and the Publix Gasparilla 8K.
  Feeling up to a challenge\, the weekend also includes the Michelob Ultra 
 Challenge (15K\, 5K\, Half Marathon\, and 8K)\, Michelob Ultra Pure Gold C
 hallenge (15K and Half Marathon)\, Michelob Ultra Infusion Challenge (15K 
 and 8K)\, and the Michelob Ultra Zero Challenge (5K and 8K).\n\nThis incre
 dibly flat and fast course takes runners on an out-and-back course along b
 eautiful Bayshore Boulevard.\n\nYou can become a part of history and join 
 us for the 49th running of the Publix Gasparilla Distance Classic Race Wee
 kend\, February 21-22\, 2026!
DTSTART;TZID=America/New_York:20260221T060000
DTEND;TZID=America/New_York:20260222T113000
LOCATION:Bayshore Blvd\, Tampa\, FL 33602 US
SUMMARY:Gasparilla Distance Classic
END:VEVENT
END:VCALENDAR
