BEGIN:VCALENDAR
VERSION:2.0
PRODID:-//thetampariverwalk.com//NONSGML kigkonsult.se iCalcreator 2.30.10/
 /
CALSCALE:GREGORIAN
METHOD:PUBLISH
UID:97a5cfdb-b672-41a8-8e6a-ad6b50585797
X-WR-CALDESC:There’s always something happening on the Tampa Riverwalk — an
 d at Hotel Tampa\, too. Whether you’re just visiting or part of our vibran
 t Riverwalk community\, our events calendar is your first stop for good ti
 mes\, great views\, and amazing things to do.
X-WR-RELCALID:7eba90694f6d2a9952944d8b626c2bae
X-WR-TIMEZONE:America/New_York
BEGIN:VTIMEZONE
TZID:America/New_York
BEGIN:STANDARD
TZNAME:EST
DTSTART:20251102T020000
TZOFFSETFROM:-0400
TZOFFSETTO:-0500
RDATE:20261101T020000
END:STANDARD
BEGIN:DAYLIGHT
TZNAME:EDT
DTSTART:20250309T020000
TZOFFSETFROM:-0500
TZOFFSETTO:-0400
RDATE:20260308T020000
RDATE:20270314T020000
END:DAYLIGHT
END:VTIMEZONE
BEGIN:VEVENT
UID:5c501f6a-95a0-4c09-ac1d-b14a41145554
DTSTAMP:20260425T150139Z
DESCRIPTION:There’s always something happening on the Tampa Riverwalk — and
  at Hotel Tampa\, too. Whether you’re just visiting or part of our vibrant
  Riverwalk community\, our events calendar is your first stop for good tim
 es\, great views\, and amazing things to do.
DTSTART;TZID=America/New_York:20260123T150000
DTEND;TZID=America/New_York:20260123T190000
LOCATION:200 N Ashley Drive \, Tampa\, FL 33602 US
SUMMARY:Cienna Alida
END:VEVENT
END:VCALENDAR
