BEGIN:VCALENDAR
VERSION:2.0
PRODID:-//thetampariverwalk.com//NONSGML kigkonsult.se iCalcreator 2.30.10/
 /
CALSCALE:GREGORIAN
METHOD:PUBLISH
UID:3807b455-bd99-41aa-9dd6-4de7012fb7b9
X-WR-CALDESC:
X-WR-RELCALID:6fd4c7a6eb67a7787b22e5e8fbdaf010
X-WR-TIMEZONE:America/New_York
BEGIN:VTIMEZONE
TZID:America/New_York
BEGIN:STANDARD
TZNAME:EST
DTSTART:20251102T020000
TZOFFSETFROM:-0400
TZOFFSETTO:-0500
RDATE:20261101T020000
END:STANDARD
BEGIN:DAYLIGHT
TZNAME:EDT
DTSTART:20250309T020000
TZOFFSETFROM:-0500
TZOFFSETTO:-0400
RDATE:20260308T020000
RDATE:20270314T020000
END:DAYLIGHT
END:VTIMEZONE
BEGIN:VEVENT
UID:51a83e83-b50a-44ed-b229-5a2b2b834b7a
DTSTAMP:20260419T130152Z
DESCRIPTION:
DTSTART;TZID=America/New_York:20251129T200000
DTEND;TZID=America/New_York:20251129T220000
LOCATION:Benchmark International Arena
SUMMARY:Christian Nodal
END:VEVENT
END:VCALENDAR
