BEGIN:VCALENDAR
VERSION:2.0
PRODID:-//thetampariverwalk.com//NONSGML kigkonsult.se iCalcreator 2.30.10/
 /
CALSCALE:GREGORIAN
METHOD:PUBLISH
UID:3a28d129-f8fd-41a5-a70b-7bd807b05d2b
X-WR-CALDESC:Light Up the Riverwalk!\n\nJoin the Riverwalk Holiday Decor Ch
 allenge this season. We've inviting businesses\, homes\, condos\, and apar
 tments along the Riverwalk/river to join in decorating for the season to h
 elp spread cheer. Prizes will be available for 'Best Decorated'.\n\n2025 H
 oliday Decoration Contest is NOW CLOSED. Thank you for participating\, che
 ck back next year!\n\n✨ Why Participate?\nBe part of a signature Tampa hol
 iday tradition\nSpread cheer to thousands of Riverwalk visitors\nGain reco
 gnition on our Tampa Riverwalk website & social media\nCompete for “Best D
 ecorated” bragging rights!\n\nTampa was named #8 in the country last year 
 for Best Holiday Decorations! Lets get to number one this year!\nhttps://1
 0best.usatoday.com/awards/best-public-holiday-lights-display/
X-WR-RELCALID:5ea16ce5e66006a8cd1638fff6b0de43
X-WR-TIMEZONE:America/New_York
BEGIN:VTIMEZONE
TZID:America/New_York
BEGIN:STANDARD
TZNAME:EST
DTSTART:20251102T020000
TZOFFSETFROM:-0400
TZOFFSETTO:-0500
RDATE:20261101T020000
END:STANDARD
BEGIN:DAYLIGHT
TZNAME:EDT
DTSTART:20250309T020000
TZOFFSETFROM:-0500
TZOFFSETTO:-0400
RDATE:20260308T020000
RDATE:20270314T020000
END:DAYLIGHT
END:VTIMEZONE
BEGIN:VEVENT
UID:e04b68ce-bea5-42f0-b960-c1d05e66831d
DTSTAMP:20260420T155149Z
DESCRIPTION:Light Up the Riverwalk!\n\nJoin the Riverwalk Holiday Decor Cha
 llenge this season. We've inviting businesses\, homes\, condos\, and apart
 ments along the Riverwalk/river to join in decorating for the season to he
 lp spread cheer. Prizes will be available for 'Best Decorated'.\n\n2025 Ho
 liday Decoration Contest is NOW CLOSED. Thank you for participating\, chec
 k back next year!\n\n✨ Why Participate?\nBe part of a signature Tampa holi
 day tradition\nSpread cheer to thousands of Riverwalk visitors\nGain recog
 nition on our Tampa Riverwalk website & social media\nCompete for “Best De
 corated” bragging rights!\n\nTampa was named #8 in the country last year f
 or Best Holiday Decorations! Lets get to number one this year!\nhttps://10
 best.usatoday.com/awards/best-public-holiday-lights-display/
DTSTART;TZID=America/New_York:20251128T090000
DTEND;TZID=America/New_York:20260102T090000
LOCATION:All along the Tampa Riverwalk and Hillsborough River
SUMMARY:Riverwalk Holiday Decor Challenge
END:VEVENT
END:VCALENDAR
