BEGIN:VCALENDAR
VERSION:2.0
PRODID:-//thetampariverwalk.com//NONSGML kigkonsult.se iCalcreator 2.30.10/
 /
CALSCALE:GREGORIAN
METHOD:PUBLISH
UID:0ab9eafb-a9c5-491c-9540-00ec2e3c8b3a
X-WR-CALDESC:Do ye have what it takes to be a pirate? Join the fearless cre
 w of the Lost Pearl on an epic quest for treasure in Downtown Tampa! Embar
 k on a swashbuckling adventure filled with excitement as ye learn to load 
 and dodge cannonballs\, pass them along to yer mates\, and defend yerself 
 with water cannons. Follow orders\, test yer sea legs\, and prepare for en
 dless pirate fun.\n\nLooking for a sunset voyage? On select dates\, gather
  your crew for a memorable sunset cruise\, where ye’ll experience the beau
 ty of Tampa Bay as the sun dips below the horizon. Plus\, enjoy the added 
 indulgence of an open bar\, making this voyage truly unforgettable!
X-WR-RELCALID:d289946a4e311ff65ed86f89d31539d9
X-WR-TIMEZONE:America/New_York
BEGIN:VTIMEZONE
TZID:America/New_York
BEGIN:STANDARD
TZNAME:EST
DTSTART:20241103T020000
TZOFFSETFROM:-0400
TZOFFSETTO:-0500
RDATE:20251102T020000
RDATE:20261101T020000
END:STANDARD
BEGIN:DAYLIGHT
TZNAME:EDT
DTSTART:20250309T020000
TZOFFSETFROM:-0500
TZOFFSETTO:-0400
RDATE:20260308T020000
END:DAYLIGHT
END:VTIMEZONE
BEGIN:VEVENT
UID:f25a416e-70e2-475e-ac28-531f42ad2a78
DTSTAMP:20260424T175628Z
DESCRIPTION:Do ye have what it takes to be a pirate? Join the fearless crew
  of the Lost Pearl on an epic quest for treasure in Downtown Tampa! Embark
  on a swashbuckling adventure filled with excitement as ye learn to load a
 nd dodge cannonballs\, pass them along to yer mates\, and defend yerself w
 ith water cannons. Follow orders\, test yer sea legs\, and prepare for end
 less pirate fun.\n\nLooking for a sunset voyage? On select dates\, gather 
 your crew for a memorable sunset cruise\, where ye’ll experience the beaut
 y of Tampa Bay as the sun dips below the horizon. Plus\, enjoy the added i
 ndulgence of an open bar\, making this voyage truly unforgettable!
DTSTART;TZID=America/New_York:20250830T060000
DTEND;TZID=America/New_York:20250830T060001
LOCATION:Lost Pearl Dock
SUMMARY:Lost Pearl | All-ages Pirate Adventure Cruise
END:VEVENT
END:VCALENDAR
