BEGIN:VCALENDAR
VERSION:2.0
PRODID:-//thetampariverwalk.com//NONSGML kigkonsult.se iCalcreator 2.30.10/
 /
CALSCALE:GREGORIAN
METHOD:PUBLISH
UID:35b1c458-610a-4bbd-9d87-97af78cd00d0
X-WR-CALDESC:Set sail for an electrifying summer night on Tampa Bay with Ya
 cht StarShip’s Rock the Bay: Dinner Dance Party Series featuring a free ba
 r at sea! Enjoy a delicious dinner\, cocktails\, and non-stop entertainmen
 t as you dance under the stars. With a live DJ spinning the hottest hits\,
  breathtaking waterfront views\, and an unbeatable party atmosphere\, this
  is the ultimate Saturday night upgrade.
X-WR-RELCALID:cdc73d4c0b7f20ee1b3ab944f847650c
X-WR-TIMEZONE:America/New_York
BEGIN:VTIMEZONE
TZID:America/New_York
BEGIN:STANDARD
TZNAME:EST
DTSTART:20241103T020000
TZOFFSETFROM:-0400
TZOFFSETTO:-0500
RDATE:20251102T020000
RDATE:20261101T020000
END:STANDARD
BEGIN:DAYLIGHT
TZNAME:EDT
DTSTART:20250309T020000
TZOFFSETFROM:-0500
TZOFFSETTO:-0400
RDATE:20260308T020000
END:DAYLIGHT
END:VTIMEZONE
BEGIN:VEVENT
UID:462cb482-267e-4de3-a7a8-f85436a8d3be
DTSTAMP:20260420T140620Z
DESCRIPTION:Set sail for an electrifying summer night on Tampa Bay with Yac
 ht StarShip’s Rock the Bay: Dinner Dance Party Series featuring a free bar
  at sea! Enjoy a delicious dinner\, cocktails\, and non-stop entertainment
  as you dance under the stars. With a live DJ spinning the hottest hits\, 
 breathtaking waterfront views\, and an unbeatable party atmosphere\, this 
 is the ultimate Saturday night upgrade.
DTSTART;TZID=America/New_York:20250802T203000
DTEND;TZID=America/New_York:20250802T223000
LOCATION:Yacht Starship Dock
SUMMARY:Yacht StarShip | Rock the Bay: Hip-Hop & R&B
END:VEVENT
END:VCALENDAR
