BEGIN:VCALENDAR
VERSION:2.0
PRODID:-//thetampariverwalk.com//NONSGML kigkonsult.se iCalcreator 2.30.10/
 /
CALSCALE:GREGORIAN
METHOD:PUBLISH
UID:f1f376be-bde3-4ca6-87ca-562dc9c86b15
X-WR-CALDESC:Calling all automotive enthusiasts! Back by popular demand\, J
 une 21st from 6-9pm we will host our 5th Evening Edition of Rides by the R
 iver.\n\nHundreds of Tampa Bays’ hottest and most exotic cars will be on d
 isplay. Additionally\, local dealers and automotive vendors will show off 
 some of their latest vehicles and products. This event is open to the publ
 ic and fun for all ages.\n\nThis event is completely free to attend and th
 ere is no need to RSVP if you plan to attend as a spectator. Attendees wis
 hing to display their vehicles or park in the show display lot\, must prer
 egister their vehicle.\n\n**If you want to reserve a spot to show your car
  on property\, please email Rides@armatureworks.com with an image of your 
 car\, first and last name\, and if this is your first time registering. \n
 \nAnyone on property must be able to stay for the duration of the show and
  must adhere to all property rules.
X-WR-RELCALID:6be499e62192e63415fd0f58310706ff
X-WR-TIMEZONE:America/New_York
BEGIN:VTIMEZONE
TZID:America/New_York
BEGIN:STANDARD
TZNAME:EST
DTSTART:20241103T020000
TZOFFSETFROM:-0400
TZOFFSETTO:-0500
RDATE:20251102T020000
RDATE:20261101T020000
END:STANDARD
BEGIN:DAYLIGHT
TZNAME:EDT
DTSTART:20250309T020000
TZOFFSETFROM:-0500
TZOFFSETTO:-0400
RDATE:20260308T020000
END:DAYLIGHT
END:VTIMEZONE
BEGIN:VEVENT
UID:cde7fe92-0c88-4635-a77f-71b650ca1a98
DTSTAMP:20260419T130129Z
DESCRIPTION:Calling all automotive enthusiasts! Back by popular demand\, Ju
 ne 21st from 6-9pm we will host our 5th Evening Edition of Rides by the Ri
 ver.\n\nHundreds of Tampa Bays’ hottest and most exotic cars will be on di
 splay. Additionally\, local dealers and automotive vendors will show off s
 ome of their latest vehicles and products. This event is open to the publi
 c and fun for all ages.\n\nThis event is completely free to attend and the
 re is no need to RSVP if you plan to attend as a spectator. Attendees wish
 ing to display their vehicles or park in the show display lot\, must prere
 gister their vehicle.\n\n**If you want to reserve a spot to show your car 
 on property\, please email Rides@armatureworks.com with an image of your c
 ar\, first and last name\, and if this is your first time registering. \n
 \nAnyone on property must be able to stay for the duration of the show and
  must adhere to all property rules.
DTSTART;TZID=America/New_York:20250621T180000
DTEND;TZID=America/New_York:20250621T210000
LOCATION:Armature Works South Lawn
SUMMARY:Rides by the River Evening Edition
END:VEVENT
END:VCALENDAR
