BEGIN:VCALENDAR
VERSION:2.0
PRODID:-//thetampariverwalk.com//NONSGML kigkonsult.se iCalcreator 2.30.10/
 /
CALSCALE:GREGORIAN
METHOD:PUBLISH
UID:8f0cfa83-3a65-4f43-9494-b9b2bdb01073
X-WR-CALDESC:The American Victory Ship and Museum\, a non-profit 501(c)3 or
 ganization is 1 of only 4 fully-operational WWII ships in the country. It 
 is a true American icon and is recognized on the National Register of Hist
 oric Places. Anchor your place in American maritime history by experiencin
 g an unforgettable voyage of discovery.
X-WR-RELCALID:fd1a9c3e539b346dd82efc479fca8d54
X-WR-TIMEZONE:America/New_York
BEGIN:VTIMEZONE
TZID:America/New_York
BEGIN:STANDARD
TZNAME:EST
DTSTART:20241103T020000
TZOFFSETFROM:-0400
TZOFFSETTO:-0500
RDATE:20251102T020000
RDATE:20261101T020000
END:STANDARD
BEGIN:DAYLIGHT
TZNAME:EDT
DTSTART:20250309T020000
TZOFFSETFROM:-0500
TZOFFSETTO:-0400
RDATE:20260308T020000
END:DAYLIGHT
END:VTIMEZONE
BEGIN:VEVENT
UID:d9adf2c2-7778-4ba9-bd65-9bba98818648
DTSTAMP:20260425T170150Z
DESCRIPTION:The American Victory Ship and Museum\, a non-profit 501(c)3 org
 anization is 1 of only 4 fully-operational WWII ships in the country. It i
 s a true American icon and is recognized on the National Register of Histo
 ric Places. Anchor your place in American maritime history by experiencing
  an unforgettable voyage of discovery.
DTSTART;TZID=America/New_York:20250525T100000
DTEND;TZID=America/New_York:20250525T170000
LOCATION:American Victory
SUMMARY:American Victory 80th Anniversary Memorial Day Weekend
END:VEVENT
END:VCALENDAR
