BEGIN:VCALENDAR
VERSION:2.0
PRODID:-//thetampariverwalk.com//NONSGML kigkonsult.se iCalcreator 2.30.10/
 /
CALSCALE:GREGORIAN
METHOD:PUBLISH
UID:41b02a3e-af86-4b6d-819b-20f7fefaba92
X-WR-CALDESC:
X-WR-RELCALID:04e4987ae36c1cb288b63387880a93a4
X-WR-TIMEZONE:America/New_York
BEGIN:VTIMEZONE
TZID:America/New_York
BEGIN:STANDARD
TZNAME:EST
DTSTART:20231105T020000
TZOFFSETFROM:-0400
TZOFFSETTO:-0500
RDATE:20241103T020000
RDATE:20251102T020000
END:STANDARD
BEGIN:DAYLIGHT
TZNAME:EDT
DTSTART:20240310T020000
TZOFFSETFROM:-0500
TZOFFSETTO:-0400
RDATE:20250309T020000
END:DAYLIGHT
END:VTIMEZONE
BEGIN:VEVENT
UID:4d5b1d1a-985e-4ce7-bd22-a79875b0ba16
DTSTAMP:20260419T143734Z
DESCRIPTION:
DTSTART;TZID=America/New_York:20240725T060000
DTEND;TZID=America/New_York:20240725T060001
LOCATION:Hotel Tampa Riverwalk
SUMMARY:Latin Thursdays
END:VEVENT
END:VCALENDAR
