BEGIN:VCALENDAR
VERSION:2.0
PRODID:-//thetampariverwalk.com//NONSGML kigkonsult.se iCalcreator 2.30.10/
 /
CALSCALE:GREGORIAN
METHOD:PUBLISH
UID:44ee3db1-9799-4f52-94f2-b0194867d8cd
X-WR-CALDESC:On Saturday\, May 4\, 2024\, from 11 am – 9:30 pm in Curtis Hi
 xon Park\, we bring back TacoFest! We will provide a delicious opportunity
  to try a variety of tacos while enjoying all the other aspects of Riverfe
 st like the Wiener Dog Derby\, Concert Series\, Beer Tents\, and more.\n\n
 Wrist Band PRE-SALE Pricing available now: (lock in pre-sale pricing now\,
  prices will go up!)\n3 TACOS FOR $15\n5 TACOS FOR $20\n\nTacos provided b
 y Salt Block Catering
X-WR-RELCALID:3c9c151cce5a2c244ab00146bb9f0013
X-WR-TIMEZONE:America/New_York
BEGIN:VTIMEZONE
TZID:America/New_York
BEGIN:STANDARD
TZNAME:EST
DTSTART:20231105T020000
TZOFFSETFROM:-0400
TZOFFSETTO:-0500
RDATE:20241103T020000
RDATE:20251102T020000
END:STANDARD
BEGIN:DAYLIGHT
TZNAME:EDT
DTSTART:20240310T020000
TZOFFSETFROM:-0500
TZOFFSETTO:-0400
RDATE:20250309T020000
END:DAYLIGHT
END:VTIMEZONE
BEGIN:VEVENT
UID:6fce333e-4096-4ad9-88ab-c028e8778e05
DTSTAMP:20260424T150634Z
DESCRIPTION:On Saturday\, May 4\, 2024\, from 11 am – 9:30 pm in Curtis Hix
 on Park\, we bring back TacoFest! We will provide a delicious opportunity 
 to try a variety of tacos while enjoying all the other aspects of Riverfes
 t like the Wiener Dog Derby\, Concert Series\, Beer Tents\, and more.\n\nW
 rist Band PRE-SALE Pricing available now: (lock in pre-sale pricing now\, 
 prices will go up!)\n3 TACOS FOR $15\n5 TACOS FOR $20\n\nTacos provided by
  Salt Block Catering
DTSTART;TZID=America/New_York:20240504T110000
DTEND;TZID=America/New_York:20240504T213000
LOCATION:Curtis Hixon Park
SUMMARY:TacoFest
END:VEVENT
END:VCALENDAR
