BEGIN:VCALENDAR
VERSION:2.0
PRODID:-//thetampariverwalk.com//NONSGML kigkonsult.se iCalcreator 2.30.10/
 /
CALSCALE:GREGORIAN
METHOD:PUBLISH
UID:7c540f16-0a44-407c-b1a5-bfb4969b4360
X-WR-CALDESC:
X-WR-RELCALID:98d5918b38bae80a3936eb2514f4511d
X-WR-TIMEZONE:America/New_York
BEGIN:VTIMEZONE
TZID:America/New_York
BEGIN:STANDARD
TZNAME:EST
DTSTART:20231105T020000
TZOFFSETFROM:-0400
TZOFFSETTO:-0500
RDATE:20241103T020000
END:STANDARD
BEGIN:DAYLIGHT
TZNAME:EDT
DTSTART:20230312T020000
TZOFFSETFROM:-0500
TZOFFSETTO:-0400
RDATE:20240310T020000
RDATE:20250309T020000
END:DAYLIGHT
END:VTIMEZONE
BEGIN:VEVENT
UID:a59aff47-d60c-4f02-afa8-5dfc1621ebeb
DTSTAMP:20260420T203542Z
DESCRIPTION:
DTSTART;TZID=America/New_York:20240201T160000
DTEND;TZID=America/New_York:20240201T200000
LOCATION:Tampa Museum of Art
SUMMARY:Art on the House
END:VEVENT
END:VCALENDAR
