BEGIN:VCALENDAR
VERSION:2.0
PRODID:-//thetampariverwalk.com//NONSGML kigkonsult.se iCalcreator 2.30.10/
 /
CALSCALE:GREGORIAN
METHOD:PUBLISH
UID:43657f4f-8c49-448e-9172-983bc6873120
X-WR-CALDESC:
X-WR-RELCALID:53a2f683b1d6776d46265420d5bd05ba
X-WR-TIMEZONE:America/New_York
BEGIN:VTIMEZONE
TZID:America/New_York
BEGIN:STANDARD
TZNAME:EST
DTSTART:20231105T020000
TZOFFSETFROM:-0400
TZOFFSETTO:-0500
RDATE:20241103T020000
END:STANDARD
BEGIN:DAYLIGHT
TZNAME:EDT
DTSTART:20230312T020000
TZOFFSETFROM:-0500
TZOFFSETTO:-0400
RDATE:20240310T020000
RDATE:20250309T020000
END:DAYLIGHT
END:VTIMEZONE
BEGIN:VEVENT
UID:487a5d33-097e-4302-80b5-de0be3eaaa2f
DTSTAMP:20260423T122930Z
DESCRIPTION:
DTSTART;TZID=America/New_York:20240201T060000
DTEND;TZID=America/New_York:20240201T060001
LOCATION:Hotel Tampa Riverwalk
SUMMARY:Latin Thursdays
END:VEVENT
END:VCALENDAR
