BEGIN:VCALENDAR
VERSION:2.0
PRODID:-//thetampariverwalk.com//NONSGML kigkonsult.se iCalcreator 2.30.10/
 /
CALSCALE:GREGORIAN
METHOD:PUBLISH
UID:8edacdfd-503f-4d0d-b6f6-e1b1775c4253
X-WR-CALDESC:Arrrrrrrgh you ready for Gasparilla?! Get in the pirate spirit
  with this two-hour cruise that features the Gasparilla fireworks after th
 e Children’s Parade. As the sun goes down\, the fireworks will go up and y
 ou’ll have a great floating seat for the show. And to make it even more sp
 ecial\, the grog bar will be free at sea!
X-WR-RELCALID:36e5b1fd8d1b1694b6a78b819544cadd
X-WR-TIMEZONE:America/New_York
BEGIN:VTIMEZONE
TZID:America/New_York
BEGIN:STANDARD
TZNAME:EST
DTSTART:20211107T020000
TZOFFSETFROM:-0400
TZOFFSETTO:-0500
RDATE:20221106T020000
END:STANDARD
BEGIN:DAYLIGHT
TZNAME:EDT
DTSTART:20210314T020000
TZOFFSETFROM:-0500
TZOFFSETTO:-0400
RDATE:20220313T020000
RDATE:20230312T020000
END:DAYLIGHT
END:VTIMEZONE
BEGIN:VEVENT
UID:af772fbe-c9cc-43ef-90f5-9cefafa6f3f7
DTSTAMP:20260419T143605Z
DESCRIPTION:Arrrrrrrgh you ready for Gasparilla?! Get in the pirate spirit 
 with this two-hour cruise that features the Gasparilla fireworks after the
  Children’s Parade. As the sun goes down\, the fireworks will go up and yo
 u’ll have a great floating seat for the show. And to make it even more spe
 cial\, the grog bar will be free at sea!
DTSTART;TZID=America/New_York:20220122T173000
DTEND;TZID=America/New_York:20220122T193000
LOCATION:Lost Pearl boards at Tampa Convention Center
SUMMARY:Lost Pearl Childrens Gasparilla Fireworks Cruise
END:VEVENT
END:VCALENDAR
